BEGIN:VCALENDAR
VERSION:2.0
PRODID:-//Dans Tutorials - ECPv6.14.0//NONSGML v1.0//EN
CALSCALE:GREGORIAN
METHOD:PUBLISH
X-ORIGINAL-URL:https://danstutorials.com
X-WR-CALDESC:Events for Dans Tutorials
REFRESH-INTERVAL;VALUE=DURATION:PT1H
X-Robots-Tag:noindex
X-PUBLISHED-TTL:PT1H
BEGIN:VTIMEZONE
TZID:America/Detroit
BEGIN:DAYLIGHT
TZOFFSETFROM:-0500
TZOFFSETTO:-0400
TZNAME:EDT
DTSTART:20230312T070000
END:DAYLIGHT
BEGIN:STANDARD
TZOFFSETFROM:-0400
TZOFFSETTO:-0500
TZNAME:EST
DTSTART:20231105T060000
END:STANDARD
END:VTIMEZONE
BEGIN:VEVENT
DTSTART;TZID=America/Detroit:20230810T170000
DTEND;TZID=America/Detroit:20230810T180000
DTSTAMP:20260421T085035
CREATED:20230728T191110Z
LAST-MODIFIED:20230811T200721Z
UID:10000223-1691686800-1691690400@danstutorials.com
SUMMARY:iOS 17 Sneak Peek: What's New for iPhone Users
DESCRIPTION:Join me for an in-depth look at the new features coming in iOS 17 for iPhone. In this webinar\, you’ll learn how to take advantage of powerful customization options to showcase your personality when making calls\, how to find what you need faster with the new App Tray in Messages\, finely tune searches to find info quickly in Messages\, make widgets more useful with interactivity\, securely share passwords with trusted contacts\, tailor your web browsing experience with Safari User Profiles\, categorize your grocery lists with Sections\, connect your notes for deeper insights\, and more. If you want to get the most out of your iPhone when iOS 17 drops\, don’t miss this info-packed webinar on the latest and greatest features. \nChapters: \n00:00:00 – Introduction\n00:00:32 – My Thoughts on iOS 17\n00:02:11 – About Mea\n00:03:57 – Interactive Widgets\n00:08:10 – Standby Mode when in Landscape\n00:13:34 – Sections and Grocery Lists in Reminders\n00:29:45 – Link Notes and Better PDF Viewing in Notes\n00:42:01 – New App Tray and Better Search in Messages\n00:48:54 – Password Sharing\n00:57:52 – Safari Profiles\n01:05:18 – Mental Well Being in the Health App\n01:08:23 – Personalize our Contacts\n01:10:38 – Wrap Up
URL:https://danstutorials.com/event-calendar/ios-17-sneak-peek-whats-new-for-iphone-users/
CATEGORIES:Class
ATTACH;FMTTYPE=image/jpeg:https://danstutorials.com/wp-content/uploads/2023/07/740bc5fe-058d-4b52-bc07-b5cffbd8fbf6.jpg
LOCATION:https://danstutorials.com/event-calendar/ios-17-sneak-peek-whats-new-for-iphone-users/
END:VEVENT
BEGIN:VEVENT
DTSTART;TZID=America/Detroit:20230817T170000
DTEND;TZID=America/Detroit:20230817T180000
DTSTAMP:20260421T085035
CREATED:20230728T165658Z
LAST-MODIFIED:20230821T144829Z
UID:10000222-1692291600-1692295200@danstutorials.com
SUMMARY:Ask Me Anything Webinar
DESCRIPTION:In this 1 hour Zoom session recorded on Thursday\, August 17th 2023\, I covered topics including iPad multitasking\, adding cards to the Wallet app\, removing contacts in Messages\, turning off Widgets in macOS\, understanding Calendar time zones\, clearing browsing history\, Apple Pencil compatibility\, using a Mac with a TV\, getting CarPlay set up\, and more. \nChapters: \n\n00:00 – Introduction and announcement of my next live event\n00:03 – Explaining the dock/multitasking bar on iPad\n00:10 – Steps for adding rewards/gift cards to the iOS Wallet\n00:16 – Removing unwanted contacts from the Messages app\n00:20 – Turning off Widgets on Mac desktops\n00:23 – How time zones work in Apple Calendar\n00:28 – Deleting cookies/browsing history on Apple devices\n00:34 – Compatibility of Apple Pencil with iPhone\n00:38 – Using a Mac with a TV via Zoom\n00:53 – Checking CarPlay compatibility with your vehicle\n01:01 – Wrap up and thanks\n\nLinks Mentioned: \n\nTinkerTool\nMacs Compatible with macOS Sonoma\nApple’s Accessibility Page\n\nThanks for joining and your questions!
URL:https://danstutorials.com/event-calendar/ask-me-anything-webinar/
CATEGORIES:Webinar
ATTACH;FMTTYPE=image/jpeg:https://danstutorials.com/wp-content/uploads/2022/12/webinar-front-3.jpeg
END:VEVENT
END:VCALENDAR