BEGIN:VCALENDAR
VERSION:2.0
PRODID:-//Dans Tutorials - ECPv6.14.0//NONSGML v1.0//EN
CALSCALE:GREGORIAN
METHOD:PUBLISH
X-ORIGINAL-URL:https://danstutorials.com
X-WR-CALDESC:Events for Dans Tutorials
REFRESH-INTERVAL;VALUE=DURATION:PT1H
X-Robots-Tag:noindex
X-PUBLISHED-TTL:PT1H
BEGIN:VTIMEZONE
TZID:America/Detroit
BEGIN:DAYLIGHT
TZOFFSETFROM:-0500
TZOFFSETTO:-0400
TZNAME:EDT
DTSTART:20250309T070000
END:DAYLIGHT
BEGIN:STANDARD
TZOFFSETFROM:-0400
TZOFFSETTO:-0500
TZNAME:EST
DTSTART:20251102T060000
END:STANDARD
END:VTIMEZONE
BEGIN:VEVENT
DTSTART;TZID=America/Detroit:20250616T000000
DTEND;TZID=America/Detroit:20250616T000000
DTSTAMP:20260421T084703
CREATED:20250610T135632Z
LAST-MODIFIED:20250623T153037Z
UID:10000272-1750032000-1750032000@danstutorials.com
SUMMARY:Watch My AMA: Deep Dive into iPadOS 26 & What’s Next!
DESCRIPTION:[/mepr-active]\n\nI was thrilled to host an AMA (Ask Me Anything) on Thursday\, June 12 at 5:00 PM EDT\, where I shared everything I had learned about iPadOS 26—just days after its unveiling at WWDC 2025. \nApple introduced some major updates in iPadOS 26\, including: \nA sleek new Liquid Glass interface that gave the iPad a translucent\, more unified look. \nTrue windowed multitasking\, with resizable windows\, a floating menu bar\, and a Mac-like experience. \nEnhanced Apple Intelligence\, an updated Files app\, and more. \nMy favorite part? The iPad finally felt more like a Mac—thanks to flexible windowing and a dedicated menu bar. \n🗓 What We Covered in the AMA: \n\nA walkthrough of the Liquid Glass interface\n\nA demo of windowing\, multitasking\, and the new menu bar\n\nQ&A on Apple Intelligence tools and how they fit into your workflow\n\nMy hands-on experience with beta 1 of iPadOS 26\n\n\n\nLog in to watch the meeting. If you are a past member\, renew your membership.
URL:https://danstutorials.com/event-calendar/join-my-ama-this-thursday-deep-dive-into-ipados-26-whats-next/
CATEGORIES:Class
ATTACH;FMTTYPE=image/jpeg:https://danstutorials.com/wp-content/uploads/2025/06/ipadOS26-2-event.jpg
LOCATION:https://danstutorials.com/event-calendar/join-my-ama-this-thursday-deep-dive-into-ipados-26-whats-next/
END:VEVENT
END:VCALENDAR