BEGIN:VCALENDAR
VERSION:2.0
PRODID:-//Dans Tutorials - ECPv6.14.0//NONSGML v1.0//EN
CALSCALE:GREGORIAN
METHOD:PUBLISH
X-ORIGINAL-URL:https://danstutorials.com
X-WR-CALDESC:Events for Dans Tutorials
REFRESH-INTERVAL;VALUE=DURATION:PT1H
X-Robots-Tag:noindex
X-PUBLISHED-TTL:PT1H
BEGIN:VTIMEZONE
TZID:America/Detroit
BEGIN:DAYLIGHT
TZOFFSETFROM:-0500
TZOFFSETTO:-0400
TZNAME:EDT
DTSTART:20230312T070000
END:DAYLIGHT
BEGIN:STANDARD
TZOFFSETFROM:-0400
TZOFFSETTO:-0500
TZNAME:EST
DTSTART:20231105T060000
END:STANDARD
END:VTIMEZONE
BEGIN:VEVENT
DTSTART;TZID=America/Detroit:20230112T170000
DTEND;TZID=America/Detroit:20230112T180000
DTSTAMP:20260423T070455
CREATED:20230106T193013Z
LAST-MODIFIED:20230119T173111Z
UID:10000202-1673542800-1673546400@danstutorials.com
SUMMARY:Editing Photos in the Photos App on the Mac
DESCRIPTION:[zoom_meeting id=”94647546078″]\nWant to learn how to take your photography to the next level by editing your photos on your Mac? Apple’s Photos app has some great tools to help you improve your photos! \nIn this class\, you’ll learn how to use the powerful photo editing tools in Photos that come with your Mac. You’ll learn how to adjust exposure\, color\, and composition to create stunning images that will impress your friends and followers. \nI will guide you through the process of editing photos on your Mac\, from the basics to more advanced techniques. Whether you’re a beginner or an experienced photographer\, you’ll come away with the skills you need to take your photos to the next level. \nDon’t miss this opportunity to elevate your photography skills. Sign up for our class on editing photos on the Mac today! \nPlease note: Even though the Photos app has great features for organizing and sharing your photos\, in this class I will be focusing on editing your photos \n\n\n \n\nChapters: \n\n00:00:28 – Welcome\n00:03:26 – About Me\n00:05:03 – About DansTutorials.com\n00:06:38 – What We Are Going to Cover\n00:08:30 – Basics and Interface to Editing in Photos on the Mac\n00:18:08 – Where Photos are Stored and Exporting Unmodifed Images\n00:20:27 – Make Adjustments to Photos in Photos on the Mac\n00:59:11 – Add Filters with Photos on the Mac\n01:02:31 – Crop and Straighten with the Photos app on the Mac\n01:14:39 – Edit Live Photos in Photos an the Mac\n01:24:12 – Edit VIdeos with Photos on the Mac\n01:28:27 – Tips for Photos on the Mac\n01:34:50 – Coupon Code for Discount to DansTutorials.com\n01:35:31 – Summary and Conclusion
URL:https://danstutorials.com/event-calendar/editing-photos-in-the-photos-app/
LOCATION:Online Class
CATEGORIES:Class
ATTACH;FMTTYPE=image/jpeg:https://danstutorials.com/wp-content/uploads/2023/01/mac-camera.jpeg
END:VEVENT
BEGIN:VEVENT
DTSTART;TZID=America/Detroit:20230119T170000
DTEND;TZID=America/Detroit:20230119T180000
DTSTAMP:20260423T070455
CREATED:20230106T195209Z
LAST-MODIFIED:20230120T203534Z
UID:10000203-1674147600-1674151200@danstutorials.com
SUMMARY:Editing Photos in the Photos App on the iPad and iPhone
DESCRIPTION:Want to learn how to take your photography to the next level by editing your photos on your iPad or iPhone? Although the Mac version of Photos has more editing features\, that doesn’t mean Apple left the iPad and iPhone out! Apple’s Photos app in these devices has some great tools to help you improve your photos! \nIn this class\, you’ll learn how to use the powerful photo editing tools in Photos that come with your iPad and iPhone. You’ll learn how to adjust exposure\, color\, and composition to create stunning images that will impress your friends and followers. \nI will guide you through the process of editing photos on your iPad and iPhone\, from the basics to more advanced techniques. Whether you’re a beginner or an experienced photographer\, you’ll come away with the skills you need to take your photos to the next level. \nDon’t miss this opportunity to elevate your photography skills. Sign up for our class on editing photos on the iPad and iPhone today! \nPlease note: Even though the Photos app has great features for organizing and sharing your photos\, in this class I will be focusing on editing your photos. \n\n\n \n\nChapters Include: \n\n00:00:00 – Start\n00:00:53 – Introduction\n00:03:32 – Edit Layout in Photos on the iPad and iPhone\n00:13:01 – How to Duplicate a Photo before Edits on the iPad and iPhone\n00:18:29 – How to use Auto Enhance in Photos on the iPad and iPhone\n00:23:58 – Make Adjustments to your Photos and Videos on the iPad and iPhone\n00:34:39 – Add Filters to Photos and Videos on the iPad and iPhone\n00:39:38 – Copy Edits from one Photo and Apply it to Another\n00:46:14 – How to Use Auto Enhance for individual Adjustments\n00:48:34 – How to Crop and Straighten Photos and Videos on the iPad & iPhone\n01:03:09 – How to Edit Live Photos on the iPad and iPhone\n01:15:39 – Edit Portrait Photos on the iPad and iPhone\n01:21:25 – Trim Videos on the iPad and iPhone\n01:24:46 – How to Markup Photos on the iPad and iPhone\n01:37:10 – Conclusion\n\n\nMeeting Schedule: \n\nLobby: Doors Open (Meeting is open) 15 minutes before. I call this the Lobby where we can mingle and greet each other. This portion is not recorded.\nEvent: The event starts at the top of the hour. I will sometimes have about 5 minutes of who I am for new guests before I start on the meeting topic. I try to spend about an hour on the topic. Sometimes this can go a bit longer\, but my goal is to keep it an hour.\nAfterglow: This is more mingling time after the meeting where we can cover different topics. Sometime this is relatively short\, and other times it can be a bit longer.\n\n 
URL:https://danstutorials.com/event-calendar/editing-photos-in-the-photos-app-on-the-ipad-and-iphone/
LOCATION:Online Class
CATEGORIES:Class
ATTACH;FMTTYPE=image/jpeg:https://danstutorials.com/wp-content/uploads/2023/01/iPhone-camera-Large.jpeg
END:VEVENT
END:VCALENDAR